BEGIN:VCALENDAR
VERSION:2.0
PRODID:-//Hills of Business - ECPv6.8.3//NONSGML v1.0//EN
CALSCALE:GREGORIAN
METHOD:PUBLISH
X-ORIGINAL-URL:http://hillsofbusiness.com
X-WR-CALDESC:Събития за Hills of Business
REFRESH-INTERVAL;VALUE=DURATION:PT1H
X-Robots-Tag:noindex
X-PUBLISHED-TTL:PT1H
BEGIN:VTIMEZONE
TZID:Europe/Sofia
BEGIN:DAYLIGHT
TZOFFSETFROM:+0200
TZOFFSETTO:+0300
TZNAME:EEST
DTSTART:20260329T010000
END:DAYLIGHT
BEGIN:STANDARD
TZOFFSETFROM:+0300
TZOFFSETTO:+0200
TZNAME:EET
DTSTART:20261025T010000
END:STANDARD
END:VTIMEZONE
BEGIN:VEVENT
DTSTART;TZID=Europe/Sofia:20260811T190000
DTEND;TZID=Europe/Sofia:20260811T233000
DTSTAMP:20260421T152045
CREATED:20260116T104616Z
LAST-MODIFIED:20260119T120249Z
UID:10000038-1786474800-1786491000@hillsofbusiness.com
SUMMARY:Бизнес среща и нетуъркинг с игри: Hills of Business
DESCRIPTION:Бизнес събитие #20: Нетуъркинг и игри | HoB				\n				\n		\n				\n				\n									20-то издание! Networking и игри!English version below! На 10-и февруари 2026 г. (10/02/2026) от 19:00 ч. ви очакваме в Emu Fun Bar (ул. „Братя Пулиеви“ 3\, Капана\, Пловдив) за двадесето издание на Hills of Business — среща\, посветена на създаването на нови контакти и партньорства. Този път залагаме на по-неформална атмосфера\, в която участниците ще могат да се опознаят по нов начин чрез игрови елементи\, насърчаващи общуването\, свързването и създаването на нови контакти. Кой ще се чувства на място? Собственици и управители на компании\, включително стартиращи екипи. Специалисти и консултанти от разнообразни сектори. Очаквайте приятелска атмосфера\, смислени разговори и реални възможности за бъдещи колаборации. Участие и връзка с нас– Вход: свободен– Регистрация: office@hillsofbusiness.com– Телефон: +359 888 940 900 								\n				\n				\n				\n									20th Edition! Networking and Games!📅 Join us on February 10th\, 2026 at 7:00 PM at Emu Fun Bar (3 Bratya Pulievi St.\, Kapana\, Plovdiv) for the 20th edition of Hills of Business—an evening focused on meaningful business introductions and new partnerships. This time\, we’re going for a more informal atmosphere\, where participants will get to know each other in a fresh way through interactive games that encourage conversation\, connection\, and new relationships. Who should come? Business owners and startup founders Industry experts and consultants from various fields Freelancers and creatives exploring new collaborations Expect a welcoming vibe\, open conversations\, and real chances to connect. Attendance & Contacts– Free entry– RSVP: office@hillsofbusiness.com– Phone: +359 888 940 900 								\n				\n				\n					\n				\n		\n				\n				\n					РЕЗЕРВИРАЙТЕ ВАШЕТО МЯСТО				\n				\n				\n				\n					\n\n				\n				\n				\n		\n					\n		\n		\n		\n		\n				\n				\n					РЕЗЕРВИРАЙТЕ ВАШЕТО МЯСТО				\n				\n				\n				\n							\n			\n			\n			\n\n							\n			\n			\n								\n												\n								Имена							\n														\n											\n								\n												\n								Имейл							\n														\n											\n								\n												\n								Брой посетители							\n									\n						\n								\n							\n			\n				\n				С подаване на Вашите данни за контакт Вие давате своето съгласие "Уеб Девелъпмънт 7" ООД да обработва предоставените от Вас данни с цел информиране за събития\, новини\, промоции и други актуални инициативи.			\n		\n						\n								\n					\n						\n																						РЕЗЕРВИРАЙ\n													\n					\n				\n			\n		\n						\n				\n				\n		\n				\n				\n							\n					\n						\n				\n				\n				\n					Оставащо време до събитието				\n				\n				\n				\n							\n			 Дни Часа Минути Секунди		\n						\n				\n				\n				\n									\n				\n		\n				\n				\n					Впечатления от събитията ни
URL:http://hillsofbusiness.com/event/biznes-sabitie-igri-networking-plovdiv-11-08-2026/
ATTACH;FMTTYPE=image/jpeg:http://hillsofbusiness.com/wp-content/uploads/2025/12/2.jpg
END:VEVENT
BEGIN:VEVENT
DTSTART;TZID=Europe/Sofia:20260915T190000
DTEND;TZID=Europe/Sofia:20260915T233000
DTSTAMP:20260421T152045
CREATED:20260116T105255Z
LAST-MODIFIED:20260119T142147Z
UID:10000039-1789498800-1789515000@hillsofbusiness.com
SUMMARY:Бизнес нетуъркинг и Q&A – Hills of Business #27
DESCRIPTION:Бизнес събитие #20: Нетуъркинг и игри | HoB				\n				\n		\n				\n				\n									20-то издание! Networking и игри!English version below! На 10-и февруари 2026 г. (10/02/2026) от 19:00 ч. ви очакваме в Emu Fun Bar (ул. „Братя Пулиеви“ 3\, Капана\, Пловдив) за двадесето издание на Hills of Business — среща\, посветена на създаването на нови контакти и партньорства. Този път залагаме на по-неформална атмосфера\, в която участниците ще могат да се опознаят по нов начин чрез игрови елементи\, насърчаващи общуването\, свързването и създаването на нови контакти. Кой ще се чувства на място? Собственици и управители на компании\, включително стартиращи екипи. Специалисти и консултанти от разнообразни сектори. Очаквайте приятелска атмосфера\, смислени разговори и реални възможности за бъдещи колаборации. Участие и връзка с нас– Вход: свободен– Регистрация: office@hillsofbusiness.com– Телефон: +359 888 940 900 								\n				\n				\n				\n									20th Edition! Networking and Games!📅 Join us on February 10th\, 2026 at 7:00 PM at Emu Fun Bar (3 Bratya Pulievi St.\, Kapana\, Plovdiv) for the 20th edition of Hills of Business—an evening focused on meaningful business introductions and new partnerships. This time\, we’re going for a more informal atmosphere\, where participants will get to know each other in a fresh way through interactive games that encourage conversation\, connection\, and new relationships. Who should come? Business owners and startup founders Industry experts and consultants from various fields Freelancers and creatives exploring new collaborations Expect a welcoming vibe\, open conversations\, and real chances to connect. Attendance & Contacts– Free entry– RSVP: office@hillsofbusiness.com– Phone: +359 888 940 900 								\n				\n				\n					\n				\n		\n				\n				\n					РЕЗЕРВИРАЙТЕ ВАШЕТО МЯСТО				\n				\n				\n				\n					\n\n				\n				\n				\n		\n					\n		\n		\n		\n		\n				\n				\n					РЕЗЕРВИРАЙТЕ ВАШЕТО МЯСТО				\n				\n				\n				\n							\n			\n			\n			\n\n							\n			\n			\n								\n												\n								Имена							\n														\n											\n								\n												\n								Имейл							\n														\n											\n								\n												\n								Брой посетители							\n									\n						\n								\n							\n			\n				\n				С подаване на Вашите данни за контакт Вие давате своето съгласие "Уеб Девелъпмънт 7" ООД да обработва предоставените от Вас данни с цел информиране за събития\, новини\, промоции и други актуални инициативи.			\n		\n						\n								\n					\n						\n																						РЕЗЕРВИРАЙ\n													\n					\n				\n			\n		\n						\n				\n				\n		\n				\n				\n							\n					\n						\n				\n				\n				\n					Оставащо време до събитието				\n				\n				\n				\n							\n			 Дни Часа Минути Секунди		\n						\n				\n				\n				\n									\n				\n		\n				\n				\n					Впечатления от събитията ни
URL:http://hillsofbusiness.com/event/networking-biznes-sabitie-qa-eksperti-plovdiv-15-09-2026/
ATTACH;FMTTYPE=image/jpeg:http://hillsofbusiness.com/wp-content/uploads/2026/01/septemvrii.jpg
END:VEVENT
BEGIN:VEVENT
DTSTART;TZID=Europe/Sofia:20261013T190000
DTEND;TZID=Europe/Sofia:20261013T223000
DTSTAMP:20260421T152046
CREATED:20260116T105757Z
LAST-MODIFIED:20260119T142141Z
UID:10000040-1791918000-1791930600@hillsofbusiness.com
SUMMARY:Бързи срещи - Бизнес събития и нетуъркинг | HoB
DESCRIPTION:Бизнес събитие #20: Нетуъркинг и игри | HoB				\n				\n		\n				\n				\n									20-то издание! Networking и игри!English version below! На 10-и февруари 2026 г. (10/02/2026) от 19:00 ч. ви очакваме в Emu Fun Bar (ул. „Братя Пулиеви“ 3\, Капана\, Пловдив) за двадесето издание на Hills of Business — среща\, посветена на създаването на нови контакти и партньорства. Този път залагаме на по-неформална атмосфера\, в която участниците ще могат да се опознаят по нов начин чрез игрови елементи\, насърчаващи общуването\, свързването и създаването на нови контакти. Кой ще се чувства на място? Собственици и управители на компании\, включително стартиращи екипи. Специалисти и консултанти от разнообразни сектори. Очаквайте приятелска атмосфера\, смислени разговори и реални възможности за бъдещи колаборации. Участие и връзка с нас– Вход: свободен– Регистрация: office@hillsofbusiness.com– Телефон: +359 888 940 900 								\n				\n				\n				\n									20th Edition! Networking and Games!📅 Join us on February 10th\, 2026 at 7:00 PM at Emu Fun Bar (3 Bratya Pulievi St.\, Kapana\, Plovdiv) for the 20th edition of Hills of Business—an evening focused on meaningful business introductions and new partnerships. This time\, we’re going for a more informal atmosphere\, where participants will get to know each other in a fresh way through interactive games that encourage conversation\, connection\, and new relationships. Who should come? Business owners and startup founders Industry experts and consultants from various fields Freelancers and creatives exploring new collaborations Expect a welcoming vibe\, open conversations\, and real chances to connect. Attendance & Contacts– Free entry– RSVP: office@hillsofbusiness.com– Phone: +359 888 940 900 								\n				\n				\n					\n				\n		\n				\n				\n					РЕЗЕРВИРАЙТЕ ВАШЕТО МЯСТО				\n				\n				\n				\n					\n\n				\n				\n				\n		\n					\n		\n		\n		\n		\n				\n				\n					РЕЗЕРВИРАЙТЕ ВАШЕТО МЯСТО				\n				\n				\n				\n							\n			\n			\n			\n\n							\n			\n			\n								\n												\n								Имена							\n														\n											\n								\n												\n								Имейл							\n														\n											\n								\n												\n								Брой посетители							\n									\n						\n								\n							\n			\n				\n				С подаване на Вашите данни за контакт Вие давате своето съгласие "Уеб Девелъпмънт 7" ООД да обработва предоставените от Вас данни с цел информиране за събития\, новини\, промоции и други актуални инициативи.			\n		\n						\n								\n					\n						\n																						РЕЗЕРВИРАЙ\n													\n					\n				\n			\n		\n						\n				\n				\n		\n				\n				\n							\n					\n						\n				\n				\n				\n					Оставащо време до събитието				\n				\n				\n				\n							\n			 Дни Часа Минути Секунди		\n						\n				\n				\n				\n									\n				\n		\n				\n				\n					Впечатления от събитията ни
URL:http://hillsofbusiness.com/event/barzi-sreshti-biznes-sabitie-plovdiv-13-10-2026/
ATTACH;FMTTYPE=image/jpeg:http://hillsofbusiness.com/wp-content/uploads/2026/01/oktomvri.jpg
END:VEVENT
BEGIN:VEVENT
DTSTART;TZID=Europe/Sofia:20261110T190000
DTEND;TZID=Europe/Sofia:20261110T233000
DTSTAMP:20260421T152046
CREATED:20260116T110545Z
LAST-MODIFIED:20260119T142210Z
UID:10000041-1794337200-1794353400@hillsofbusiness.com
SUMMARY:Нетуъркинг и бизнес представяния | HoB
DESCRIPTION:Бизнес събитие #20: Нетуъркинг и игри | HoB				\n				\n		\n				\n				\n									20-то издание! Networking и игри!English version below! На 10-и февруари 2026 г. (10/02/2026) от 19:00 ч. ви очакваме в Emu Fun Bar (ул. „Братя Пулиеви“ 3\, Капана\, Пловдив) за двадесето издание на Hills of Business — среща\, посветена на създаването на нови контакти и партньорства. Този път залагаме на по-неформална атмосфера\, в която участниците ще могат да се опознаят по нов начин чрез игрови елементи\, насърчаващи общуването\, свързването и създаването на нови контакти. Кой ще се чувства на място? Собственици и управители на компании\, включително стартиращи екипи. Специалисти и консултанти от разнообразни сектори. Очаквайте приятелска атмосфера\, смислени разговори и реални възможности за бъдещи колаборации. Участие и връзка с нас– Вход: свободен– Регистрация: office@hillsofbusiness.com– Телефон: +359 888 940 900 								\n				\n				\n				\n									20th Edition! Networking and Games!📅 Join us on February 10th\, 2026 at 7:00 PM at Emu Fun Bar (3 Bratya Pulievi St.\, Kapana\, Plovdiv) for the 20th edition of Hills of Business—an evening focused on meaningful business introductions and new partnerships. This time\, we’re going for a more informal atmosphere\, where participants will get to know each other in a fresh way through interactive games that encourage conversation\, connection\, and new relationships. Who should come? Business owners and startup founders Industry experts and consultants from various fields Freelancers and creatives exploring new collaborations Expect a welcoming vibe\, open conversations\, and real chances to connect. Attendance & Contacts– Free entry– RSVP: office@hillsofbusiness.com– Phone: +359 888 940 900 								\n				\n				\n					\n				\n		\n				\n				\n					РЕЗЕРВИРАЙТЕ ВАШЕТО МЯСТО				\n				\n				\n				\n					\n\n				\n				\n				\n		\n					\n		\n		\n		\n		\n				\n				\n					РЕЗЕРВИРАЙТЕ ВАШЕТО МЯСТО				\n				\n				\n				\n							\n			\n			\n			\n\n							\n			\n			\n								\n												\n								Имена							\n														\n											\n								\n												\n								Имейл							\n														\n											\n								\n												\n								Брой посетители							\n									\n						\n								\n							\n			\n				\n				С подаване на Вашите данни за контакт Вие давате своето съгласие "Уеб Девелъпмънт 7" ООД да обработва предоставените от Вас данни с цел информиране за събития\, новини\, промоции и други актуални инициативи.			\n		\n						\n								\n					\n						\n																						РЕЗЕРВИРАЙ\n													\n					\n				\n			\n		\n						\n				\n				\n		\n				\n				\n							\n					\n						\n				\n				\n				\n					Оставащо време до събитието				\n				\n				\n				\n							\n			 Дни Часа Минути Секунди		\n						\n				\n				\n				\n									\n				\n		\n				\n				\n					Впечатления от събитията ни
URL:http://hillsofbusiness.com/event/networking-i-biznes-predstavqniq/
ATTACH;FMTTYPE=image/jpeg:http://hillsofbusiness.com/wp-content/uploads/2026/01/noemvri.jpg
END:VEVENT
BEGIN:VEVENT
DTSTART;TZID=Europe/Sofia:20261208T190000
DTEND;TZID=Europe/Sofia:20261208T223000
DTSTAMP:20260421T152046
CREATED:20260116T111122Z
LAST-MODIFIED:20260119T142214Z
UID:10000042-1796756400-1796769000@hillsofbusiness.com
SUMMARY:Hills of Business #30: Вечер за Свободен нетуъркинг
DESCRIPTION:Бизнес събитие #20: Нетуъркинг и игри | HoB				\n				\n		\n				\n				\n									20-то издание! Networking и игри!English version below! На 10-и февруари 2026 г. (10/02/2026) от 19:00 ч. ви очакваме в Emu Fun Bar (ул. „Братя Пулиеви“ 3\, Капана\, Пловдив) за двадесето издание на Hills of Business — среща\, посветена на създаването на нови контакти и партньорства. Този път залагаме на по-неформална атмосфера\, в която участниците ще могат да се опознаят по нов начин чрез игрови елементи\, насърчаващи общуването\, свързването и създаването на нови контакти. Кой ще се чувства на място? Собственици и управители на компании\, включително стартиращи екипи. Специалисти и консултанти от разнообразни сектори. Очаквайте приятелска атмосфера\, смислени разговори и реални възможности за бъдещи колаборации. Участие и връзка с нас– Вход: свободен– Регистрация: office@hillsofbusiness.com– Телефон: +359 888 940 900 								\n				\n				\n				\n									20th Edition! Networking and Games!📅 Join us on February 10th\, 2026 at 7:00 PM at Emu Fun Bar (3 Bratya Pulievi St.\, Kapana\, Plovdiv) for the 20th edition of Hills of Business—an evening focused on meaningful business introductions and new partnerships. This time\, we’re going for a more informal atmosphere\, where participants will get to know each other in a fresh way through interactive games that encourage conversation\, connection\, and new relationships. Who should come? Business owners and startup founders Industry experts and consultants from various fields Freelancers and creatives exploring new collaborations Expect a welcoming vibe\, open conversations\, and real chances to connect. Attendance & Contacts– Free entry– RSVP: office@hillsofbusiness.com– Phone: +359 888 940 900 								\n				\n				\n					\n				\n		\n				\n				\n					РЕЗЕРВИРАЙТЕ ВАШЕТО МЯСТО				\n				\n				\n				\n					\n\n				\n				\n				\n		\n					\n		\n		\n		\n		\n				\n				\n					РЕЗЕРВИРАЙТЕ ВАШЕТО МЯСТО				\n				\n				\n				\n							\n			\n			\n			\n\n							\n			\n			\n								\n												\n								Имена							\n														\n											\n								\n												\n								Имейл							\n														\n											\n								\n												\n								Брой посетители							\n									\n						\n								\n							\n			\n				\n				С подаване на Вашите данни за контакт Вие давате своето съгласие "Уеб Девелъпмънт 7" ООД да обработва предоставените от Вас данни с цел информиране за събития\, новини\, промоции и други актуални инициативи.			\n		\n						\n								\n					\n						\n																						РЕЗЕРВИРАЙ\n													\n					\n				\n			\n		\n						\n				\n				\n		\n				\n				\n							\n					\n						\n				\n				\n				\n					Оставащо време до събитието				\n				\n				\n				\n							\n			 Дни Часа Минути Секунди		\n						\n				\n				\n				\n									\n				\n		\n				\n				\n					Впечатления от събитията ни
URL:http://hillsofbusiness.com/event/svoboden-networking-08-12-2026/
ATTACH;FMTTYPE=image/jpeg:http://hillsofbusiness.com/wp-content/uploads/2026/01/dekemvri.jpg
END:VEVENT
END:VCALENDAR