BEGIN:VCALENDAR
VERSION:2.0
PRODID:-//Hills of Business - ECPv6.8.3//NONSGML v1.0//EN
CALSCALE:GREGORIAN
METHOD:PUBLISH
X-WR-CALNAME:Hills of Business
X-ORIGINAL-URL:http://hillsofbusiness.com
X-WR-CALDESC:Събития за Hills of Business
REFRESH-INTERVAL;VALUE=DURATION:PT1H
X-Robots-Tag:noindex
X-PUBLISHED-TTL:PT1H
BEGIN:VTIMEZONE
TZID:Europe/Sofia
BEGIN:DAYLIGHT
TZOFFSETFROM:+0200
TZOFFSETTO:+0300
TZNAME:EEST
DTSTART:20240331T010000
END:DAYLIGHT
BEGIN:STANDARD
TZOFFSETFROM:+0300
TZOFFSETTO:+0200
TZNAME:EET
DTSTART:20241027T010000
END:STANDARD
BEGIN:DAYLIGHT
TZOFFSETFROM:+0200
TZOFFSETTO:+0300
TZNAME:EEST
DTSTART:20250330T010000
END:DAYLIGHT
BEGIN:STANDARD
TZOFFSETFROM:+0300
TZOFFSETTO:+0200
TZNAME:EET
DTSTART:20251026T010000
END:STANDARD
END:VTIMEZONE
BEGIN:VEVENT
DTSTART;TZID=Europe/Sofia:20250703T190000
DTEND;TZID=Europe/Sofia:20250703T230000
DTSTAMP:20260423T141644
CREATED:20250522T100533Z
LAST-MODIFIED:20260130T150305Z
UID:10000018-1751569200-1751583600@hillsofbusiness.com
SUMMARY:Bulgaria 2030: Building Businesses That Belong to the Future - Hills of Business
DESCRIPTION:PlovdivConf - техническа конференция\, част от IT Турнето - 31.05.2025				\n				\n				\n				\n									🔹 Готови ли сте за срещата на най-активната ИТ и бизнес общност в Пловдив?На PlovdivConf 2025 ще се съберат предприемачи\, програмисти\, маркетинг експерти и иноватори\, за да обменят идеи\, да изградят нови партньорства и да научат най-актуалното за дигиталната трансформация. \n🎤 Очакват ви вдъхновяващи лектори\, практически панели и безценни възможности за нетуъркинг с водещи имена от индустрията. \n📍 Кога: Начало 10:30\, 31.05.2025📍 Къде: Хотел SPS бул. „Освобождение“ 3 Етаж 4\, Зала Виена🎟️ Повече информация и регистрация 👉 plovdivconf.com\n \n✨ Не пропускайте да сте част от бъдещето на технологиите – в сърцето на Пловдив! 								\n				\n				\n				\n							\n			 Дни Часове Минути Секунди
URL:http://hillsofbusiness.com/event/bulgaria-2030-building-businesses-that-belong-to-the-future-hills-of-business-3-7-2025/
CATEGORIES:Бизнес събития
END:VEVENT
BEGIN:VEVENT
DTSTART;TZID=Europe/Sofia:20250531T103000
DTEND;TZID=Europe/Sofia:20250531T173000
DTSTAMP:20260423T141644
CREATED:20250522T112635Z
LAST-MODIFIED:20250522T113710Z
UID:10000019-1748687400-1748712600@hillsofbusiness.com
SUMMARY:PlovdivConf - техническа конференция\, част от IT Турнето - 31.05.2025
DESCRIPTION:PlovdivConf - техническа конференция\, част от IT Турнето - 31.05.2025				\n				\n				\n				\n									🔹 Готови ли сте за срещата на най-активната ИТ и бизнес общност в Пловдив?На PlovdivConf 2025 ще се съберат предприемачи\, програмисти\, маркетинг експерти и иноватори\, за да обменят идеи\, да изградят нови партньорства и да научат най-актуалното за дигиталната трансформация. \n🎤 Очакват ви вдъхновяващи лектори\, практически панели и безценни възможности за нетуъркинг с водещи имена от индустрията. \n📍 Кога: Начало 10:30\, 31.05.2025📍 Къде: Хотел SPS бул. „Освобождение“ 3 Етаж 4\, Зала Виена🎟️ Повече информация и регистрация 👉 plovdivconf.com\n \n✨ Не пропускайте да сте част от бъдещето на технологиите – в сърцето на Пловдив! 								\n				\n				\n				\n							\n			 Дни Часове Минути Секунди
URL:http://hillsofbusiness.com/event/plovdivconf-tehnicheska-konferencziya-chast-ot-it-turneto-31-05-2025/
CATEGORIES:Бизнес събития
END:VEVENT
BEGIN:VEVENT
DTSTART;TZID=Europe/Sofia:20250513T190000
DTEND;TZID=Europe/Sofia:20250513T235900
DTSTAMP:20260423T141644
CREATED:20250411T085837Z
LAST-MODIFIED:20250609T122855Z
UID:10000016-1747162800-1747180740@hillsofbusiness.com
SUMMARY:Бързи Срещи: Networking събитие в Пловдив 13.05.2025
DESCRIPTION:PlovdivConf - техническа конференция\, част от IT Турнето - 31.05.2025				\n				\n				\n				\n									🔹 Готови ли сте за срещата на най-активната ИТ и бизнес общност в Пловдив?На PlovdivConf 2025 ще се съберат предприемачи\, програмисти\, маркетинг експерти и иноватори\, за да обменят идеи\, да изградят нови партньорства и да научат най-актуалното за дигиталната трансформация. \n🎤 Очакват ви вдъхновяващи лектори\, практически панели и безценни възможности за нетуъркинг с водещи имена от индустрията. \n📍 Кога: Начало 10:30\, 31.05.2025📍 Къде: Хотел SPS бул. „Освобождение“ 3 Етаж 4\, Зала Виена🎟️ Повече информация и регистрация 👉 plovdivconf.com\n \n✨ Не пропускайте да сте част от бъдещето на технологиите – в сърцето на Пловдив! 								\n				\n				\n				\n							\n			 Дни Часове Минути Секунди
URL:http://hillsofbusiness.com/event/networking-sabitie-13-05-2025/
CATEGORIES:Бизнес събития
ATTACH;FMTTYPE=image/png:http://hillsofbusiness.com/wp-content/uploads/2025/04/hb.png
END:VEVENT
BEGIN:VEVENT
DTSTART;TZID=Europe/Sofia:20250408T190000
DTEND;TZID=Europe/Sofia:20250408T235900
DTSTAMP:20260423T141644
CREATED:20250317T104021Z
LAST-MODIFIED:20250403T125440Z
UID:10000013-1744138800-1744156740@hillsofbusiness.com
SUMMARY:Бизнес събитие в Пловдив 08.04.2025
DESCRIPTION:PlovdivConf - техническа конференция\, част от IT Турнето - 31.05.2025				\n				\n				\n				\n									🔹 Готови ли сте за срещата на най-активната ИТ и бизнес общност в Пловдив?На PlovdivConf 2025 ще се съберат предприемачи\, програмисти\, маркетинг експерти и иноватори\, за да обменят идеи\, да изградят нови партньорства и да научат най-актуалното за дигиталната трансформация. \n🎤 Очакват ви вдъхновяващи лектори\, практически панели и безценни възможности за нетуъркинг с водещи имена от индустрията. \n📍 Кога: Начало 10:30\, 31.05.2025📍 Къде: Хотел SPS бул. „Освобождение“ 3 Етаж 4\, Зала Виена🎟️ Повече информация и регистрация 👉 plovdivconf.com\n \n✨ Не пропускайте да сте част от бъдещето на технологиите – в сърцето на Пловдив! 								\n				\n				\n				\n							\n			 Дни Часове Минути Секунди
URL:http://hillsofbusiness.com/event/biznes-sabitie-v-plovdiv-08-04-2025/
CATEGORIES:Бизнес събития
ATTACH;FMTTYPE=image/jpeg:http://hillsofbusiness.com/wp-content/uploads/2025/03/biznes-sabitie.jpg
END:VEVENT
BEGIN:VEVENT
DTSTART;TZID=Europe/Sofia:20250311T190000
DTEND;TZID=Europe/Sofia:20250311T235900
DTSTAMP:20260423T141644
CREATED:20250212T203319Z
LAST-MODIFIED:20250301T110000Z
UID:10000012-1741719600-1741737540@hillsofbusiness.com
SUMMARY:Нетуъркинг бизнес събитие в Пловдив 11.03.2025
DESCRIPTION:PlovdivConf - техническа конференция\, част от IT Турнето - 31.05.2025				\n				\n				\n				\n									🔹 Готови ли сте за срещата на най-активната ИТ и бизнес общност в Пловдив?На PlovdivConf 2025 ще се съберат предприемачи\, програмисти\, маркетинг експерти и иноватори\, за да обменят идеи\, да изградят нови партньорства и да научат най-актуалното за дигиталната трансформация. \n🎤 Очакват ви вдъхновяващи лектори\, практически панели и безценни възможности за нетуъркинг с водещи имена от индустрията. \n📍 Кога: Начало 10:30\, 31.05.2025📍 Къде: Хотел SPS бул. „Освобождение“ 3 Етаж 4\, Зала Виена🎟️ Повече информация и регистрация 👉 plovdivconf.com\n \n✨ Не пропускайте да сте част от бъдещето на технологиите – в сърцето на Пловдив! 								\n				\n				\n				\n							\n			 Дни Часове Минути Секунди
URL:http://hillsofbusiness.com/event/netuarking-biznes-sabitie-v-plovdiv-11-03-2025/
CATEGORIES:Бизнес събития
ATTACH;FMTTYPE=image/jpeg:http://hillsofbusiness.com/wp-content/uploads/2025/02/sabitie-mart-11.03.2025.jpg
END:VEVENT
BEGIN:VEVENT
DTSTART;TZID=Europe/Sofia:20250211T190000
DTEND;TZID=Europe/Sofia:20250211T235900
DTSTAMP:20260423T141644
CREATED:20241213T123133Z
LAST-MODIFIED:20250205T125053Z
UID:10000011-1739300400-1739318340@hillsofbusiness.com
SUMMARY:Нетуъркинг бизнес събитие в Пловдив 11.02.2025
DESCRIPTION:PlovdivConf - техническа конференция\, част от IT Турнето - 31.05.2025				\n				\n				\n				\n									🔹 Готови ли сте за срещата на най-активната ИТ и бизнес общност в Пловдив?На PlovdivConf 2025 ще се съберат предприемачи\, програмисти\, маркетинг експерти и иноватори\, за да обменят идеи\, да изградят нови партньорства и да научат най-актуалното за дигиталната трансформация. \n🎤 Очакват ви вдъхновяващи лектори\, практически панели и безценни възможности за нетуъркинг с водещи имена от индустрията. \n📍 Кога: Начало 10:30\, 31.05.2025📍 Къде: Хотел SPS бул. „Освобождение“ 3 Етаж 4\, Зала Виена🎟️ Повече информация и регистрация 👉 plovdivconf.com\n \n✨ Не пропускайте да сте част от бъдещето на технологиите – в сърцето на Пловдив! 								\n				\n				\n				\n							\n			 Дни Часове Минути Секунди
URL:http://hillsofbusiness.com/event/biznes-sabitie-networking-11-02-2025/
CATEGORIES:Бизнес събития
ATTACH;FMTTYPE=image/jpeg:http://hillsofbusiness.com/wp-content/uploads/2024/12/2_compressed_final.jpg
END:VEVENT
BEGIN:VEVENT
DTSTART;TZID=Europe/Sofia:20250114T190000
DTEND;TZID=Europe/Sofia:20250114T235900
DTSTAMP:20260423T141644
CREATED:20241213T121728Z
LAST-MODIFIED:20250112T212227Z
UID:10000008-1736881200-1736899140@hillsofbusiness.com
SUMMARY:Неформално нетуъркинг бизнес събитие в Пловдив 14.01.2025
DESCRIPTION:PlovdivConf - техническа конференция\, част от IT Турнето - 31.05.2025				\n				\n				\n				\n									🔹 Готови ли сте за срещата на най-активната ИТ и бизнес общност в Пловдив?На PlovdivConf 2025 ще се съберат предприемачи\, програмисти\, маркетинг експерти и иноватори\, за да обменят идеи\, да изградят нови партньорства и да научат най-актуалното за дигиталната трансформация. \n🎤 Очакват ви вдъхновяващи лектори\, практически панели и безценни възможности за нетуъркинг с водещи имена от индустрията. \n📍 Кога: Начало 10:30\, 31.05.2025📍 Къде: Хотел SPS бул. „Освобождение“ 3 Етаж 4\, Зала Виена🎟️ Повече информация и регистрация 👉 plovdivconf.com\n \n✨ Не пропускайте да сте част от бъдещето на технологиите – в сърцето на Пловдив! 								\n				\n				\n				\n							\n			 Дни Часове Минути Секунди
URL:http://hillsofbusiness.com/event/networking-biznes-sabitie-14-01-2025/
CATEGORIES:Бизнес събития
ATTACH;FMTTYPE=image/jpeg:http://hillsofbusiness.com/wp-content/uploads/2024/12/1_compressed_final.jpg
END:VEVENT
BEGIN:VEVENT
DTSTART;TZID=Europe/Sofia:20241210T190000
DTEND;TZID=Europe/Sofia:20241210T235900
DTSTAMP:20260423T141644
CREATED:20241204T142638Z
LAST-MODIFIED:20260126T221700Z
UID:10000006-1733857200-1733875140@hillsofbusiness.com
SUMMARY:Неформално нетуъркинг бизнес събитие в Пловдив
DESCRIPTION:PlovdivConf - техническа конференция\, част от IT Турнето - 31.05.2025				\n				\n				\n				\n									🔹 Готови ли сте за срещата на най-активната ИТ и бизнес общност в Пловдив?На PlovdivConf 2025 ще се съберат предприемачи\, програмисти\, маркетинг експерти и иноватори\, за да обменят идеи\, да изградят нови партньорства и да научат най-актуалното за дигиталната трансформация. \n🎤 Очакват ви вдъхновяващи лектори\, практически панели и безценни възможности за нетуъркинг с водещи имена от индустрията. \n📍 Кога: Начало 10:30\, 31.05.2025📍 Къде: Хотел SPS бул. „Освобождение“ 3 Етаж 4\, Зала Виена🎟️ Повече информация и регистрация 👉 plovdivconf.com\n \n✨ Не пропускайте да сте част от бъдещето на технологиите – в сърцето на Пловдив! 								\n				\n				\n				\n							\n			 Дни Часове Минути Секунди
URL:http://hillsofbusiness.com/event/sabitie-10-12-2024/
CATEGORIES:Бизнес събития
ATTACH;FMTTYPE=image/jpeg:http://hillsofbusiness.com/wp-content/uploads/2024/03/10.12.2024.jpg
END:VEVENT
BEGIN:VEVENT
DTSTART;VALUE=DATE:20241210
DTEND;VALUE=DATE:20241214
DTSTAMP:20260423T141644
CREATED:20241112T124738Z
LAST-MODIFIED:20241113T093951Z
UID:10000004-1733788800-1734134399@hillsofbusiness.com
SUMMARY:Академия по предприемачество в земеделието 3.0
DESCRIPTION:PlovdivConf - техническа конференция\, част от IT Турнето - 31.05.2025				\n				\n				\n				\n									🔹 Готови ли сте за срещата на най-активната ИТ и бизнес общност в Пловдив?На PlovdivConf 2025 ще се съберат предприемачи\, програмисти\, маркетинг експерти и иноватори\, за да обменят идеи\, да изградят нови партньорства и да научат най-актуалното за дигиталната трансформация. \n🎤 Очакват ви вдъхновяващи лектори\, практически панели и безценни възможности за нетуъркинг с водещи имена от индустрията. \n📍 Кога: Начало 10:30\, 31.05.2025📍 Къде: Хотел SPS бул. „Освобождение“ 3 Етаж 4\, Зала Виена🎟️ Повече информация и регистрация 👉 plovdivconf.com\n \n✨ Не пропускайте да сте част от бъдещето на технологиите – в сърцето на Пловдив! 								\n				\n				\n				\n							\n			 Дни Часове Минути Секунди
URL:http://hillsofbusiness.com/event/akademiq-po-predpriemachestvo-v-zemedelieto/
CATEGORIES:Бизнес събития
ATTACH;FMTTYPE=image/jpeg:http://hillsofbusiness.com/wp-content/uploads/2024/11/Academy_Event_Program_compressed.jpg
END:VEVENT
BEGIN:VEVENT
DTSTART;TZID=Europe/Sofia:20241127T183000
DTEND;TZID=Europe/Sofia:20241127T183000
DTSTAMP:20260423T141644
CREATED:20241123T125859Z
LAST-MODIFIED:20241123T130827Z
UID:10000005-1732732200-1732732200@hillsofbusiness.com
SUMMARY:Работилница за лични финанси
DESCRIPTION:PlovdivConf - техническа конференция\, част от IT Турнето - 31.05.2025				\n				\n				\n				\n									🔹 Готови ли сте за срещата на най-активната ИТ и бизнес общност в Пловдив?На PlovdivConf 2025 ще се съберат предприемачи\, програмисти\, маркетинг експерти и иноватори\, за да обменят идеи\, да изградят нови партньорства и да научат най-актуалното за дигиталната трансформация. \n🎤 Очакват ви вдъхновяващи лектори\, практически панели и безценни възможности за нетуъркинг с водещи имена от индустрията. \n📍 Кога: Начало 10:30\, 31.05.2025📍 Къде: Хотел SPS бул. „Освобождение“ 3 Етаж 4\, Зала Виена🎟️ Повече информация и регистрация 👉 plovdivconf.com\n \n✨ Не пропускайте да сте част от бъдещето на технологиите – в сърцето на Пловдив! 								\n				\n				\n				\n							\n			 Дни Часове Минути Секунди
URL:http://hillsofbusiness.com/event/rabotilnica-za-lichni-finansi-27-11-2024/
CATEGORIES:Бизнес събития
ATTACH;FMTTYPE=image/jpeg:http://hillsofbusiness.com/wp-content/uploads/2024/11/compressed_uploaded_image.jpeg
END:VEVENT
BEGIN:VEVENT
DTSTART;TZID=Europe/Sofia:20241112T190000
DTEND;TZID=Europe/Sofia:20241112T190000
DTSTAMP:20260423T141644
CREATED:20241024T114752Z
LAST-MODIFIED:20241112T115717Z
UID:10000002-1731438000-1731438000@hillsofbusiness.com
SUMMARY:Неформално нетуъркинг бизнес събитие в Пловдив
DESCRIPTION:PlovdivConf - техническа конференция\, част от IT Турнето - 31.05.2025				\n				\n				\n				\n									🔹 Готови ли сте за срещата на най-активната ИТ и бизнес общност в Пловдив?На PlovdivConf 2025 ще се съберат предприемачи\, програмисти\, маркетинг експерти и иноватори\, за да обменят идеи\, да изградят нови партньорства и да научат най-актуалното за дигиталната трансформация. \n🎤 Очакват ви вдъхновяващи лектори\, практически панели и безценни възможности за нетуъркинг с водещи имена от индустрията. \n📍 Кога: Начало 10:30\, 31.05.2025📍 Къде: Хотел SPS бул. „Освобождение“ 3 Етаж 4\, Зала Виена🎟️ Повече информация и регистрация 👉 plovdivconf.com\n \n✨ Не пропускайте да сте част от бъдещето на технологиите – в сърцето на Пловдив! 								\n				\n				\n				\n							\n			 Дни Часове Минути Секунди
URL:http://hillsofbusiness.com/event/networking-sabitie-plovdiv-12-11-2024/
CATEGORIES:Бизнес събития
ATTACH;FMTTYPE=image/png:http://hillsofbusiness.com/wp-content/uploads/2024/10/FB-event-cover.png
END:VEVENT
BEGIN:VEVENT
DTSTART;TZID=Europe/Sofia:20240622T140000
DTEND;TZID=Europe/Sofia:20240622T233000
DTSTAMP:20260423T141644
CREATED:20240526T224238Z
LAST-MODIFIED:20241024T113852Z
UID:10000001-1719064800-1719099000@hillsofbusiness.com
SUMMARY:ПРЕДПРИЕМАЧИТЕ НА ПЛОВДИВ 3.0
DESCRIPTION:PlovdivConf - техническа конференция\, част от IT Турнето - 31.05.2025				\n				\n				\n				\n									🔹 Готови ли сте за срещата на най-активната ИТ и бизнес общност в Пловдив?На PlovdivConf 2025 ще се съберат предприемачи\, програмисти\, маркетинг експерти и иноватори\, за да обменят идеи\, да изградят нови партньорства и да научат най-актуалното за дигиталната трансформация. \n🎤 Очакват ви вдъхновяващи лектори\, практически панели и безценни възможности за нетуъркинг с водещи имена от индустрията. \n📍 Кога: Начало 10:30\, 31.05.2025📍 Къде: Хотел SPS бул. „Освобождение“ 3 Етаж 4\, Зала Виена🎟️ Повече информация и регистрация 👉 plovdivconf.com\n \n✨ Не пропускайте да сте част от бъдещето на технологиите – в сърцето на Пловдив! 								\n				\n				\n				\n							\n			 Дни Часове Минути Секунди
URL:http://hillsofbusiness.com/event/predpriemachite-na-plovdiv-3-0/
LOCATION:New Home Adonay\, гр. Пловдив\, бул. "Марица" 154\, Пловдив\, Пловдив
CATEGORIES:Бизнес събития
END:VEVENT
END:VCALENDAR